BEGIN:VCALENDAR
VERSION:2.0
PRODID:-//Moreton Bay Trailer Boat Club - ECPv5.2.1//NONSGML v1.0//EN
CALSCALE:GREGORIAN
METHOD:PUBLISH
X-WR-CALNAME:Moreton Bay Trailer Boat Club
X-ORIGINAL-URL:https://mbtbc.com.au
X-WR-CALDESC:Events for Moreton Bay Trailer Boat Club
BEGIN:VTIMEZONE
TZID:Australia/Brisbane
BEGIN:STANDARD
TZOFFSETFROM:+1000
TZOFFSETTO:+1000
TZNAME:AEST
DTSTART:20210101T000000
END:STANDARD
END:VTIMEZONE
BEGIN:VEVENT
DTSTART;TZID=Australia/Brisbane:20210212T180000
DTEND;TZID=Australia/Brisbane:20210212T220000
DTSTAMP:20210301T210204
CREATED:20210129T001633Z
LAST-MODIFIED:20210129T001634Z
UID:16529-1613152800-1613167200@mbtbc.com.au
SUMMARY:LIVE MUSIC TONIGHT WITH ALEX CROOK!
DESCRIPTION:
URL:https://mbtbc.com.au/event/live-music-tonight-with-alex-crook/
LOCATION:Moreton Bay Trailer Boat Club\, 34 Fairfield Cresenct\, MANLY\, QLD\, 4179\, Australia
CATEGORIES:Live Entertainment,What's On
ORGANIZER;CN="Moreton%20Bay%20Trailer%20Boat%20Club":MAILTO:info@mbtbc.com
GEO:-27.45;153.183333
X-APPLE-STRUCTURED-LOCATION;VALUE=URI;X-ADDRESS=Moreton Bay Trailer Boat Club 34 Fairfield Cresenct MANLY QLD 4179 Australia;X-APPLE-RADIUS=500;X-TITLE=34 Fairfield Cresenct:geo:153.183333,-27.45
END:VEVENT
BEGIN:VEVENT
DTSTART;TZID=Australia/Brisbane:20210212T190000
DTEND;TZID=Australia/Brisbane:20210212T203000
DTSTAMP:20210301T210204
CREATED:20210202T012857Z
LAST-MODIFIED:20210202T012857Z
UID:16579-1613156400-1613161800@mbtbc.com.au
SUMMARY:MEMBERS CASH DRAW!
DESCRIPTION:
URL:https://mbtbc.com.au/event/members-cash-draw/2021-02-12/
LOCATION:Moreton Bay Trailer Boat Club\, 34 Fairfield Cresenct\, MANLY\, QLD\, 4179\, Australia
CATEGORIES:Membership Benefits,Weekly Promotions,What's On
ORGANIZER;CN="Moreton%20Bay%20Trailer%20Boat%20Club":MAILTO:info@mbtbc.com
GEO:-27.45;153.183333
X-APPLE-STRUCTURED-LOCATION;VALUE=URI;X-ADDRESS=Moreton Bay Trailer Boat Club 34 Fairfield Cresenct MANLY QLD 4179 Australia;X-APPLE-RADIUS=500;X-TITLE=34 Fairfield Cresenct:geo:153.183333,-27.45
END:VEVENT
END:VCALENDAR